BEGIN:VCALENDAR
VERSION:2.0
PRODID:-//PURE &amp; POSITIVE - ECPv6.15.16//NONSGML v1.0//EN
CALSCALE:GREGORIAN
METHOD:PUBLISH
X-WR-CALNAME:PURE &amp; POSITIVE
X-ORIGINAL-URL:https://pureandpositive.com
X-WR-CALDESC:Veranstaltungen für PURE &amp; POSITIVE
REFRESH-INTERVAL;VALUE=DURATION:PT1H
X-Robots-Tag:noindex
X-PUBLISHED-TTL:PT1H
BEGIN:VTIMEZONE
TZID:UTC
BEGIN:STANDARD
TZOFFSETFROM:+0000
TZOFFSETTO:+0000
TZNAME:UTC
DTSTART:20250101T000000
END:STANDARD
END:VTIMEZONE
BEGIN:VEVENT
DTSTART;TZID=UTC:20260428T183000
DTEND;TZID=UTC:20260428T193000
DTSTAMP:20260424T085441
CREATED:20260421T151507Z
LAST-MODIFIED:20260421T151507Z
UID:257813-1777401000-1777404600@pureandpositive.com
SUMMARY:Kick-off-Workshop Selbständigkeit / Aufbau eines Online-Business
DESCRIPTION:Einige von uns sind schon selbständig — andere überlegen\, diesen Schritt zu wagen. \nSusanne wird euch an diesem Abend von ihrer Geschichte nach über 20 Jahren in Konzernen in ihre Selbständigkeit erzählen und ihren Weg aufzeigen. Im zweiten Schritt möchten wir gerne den nächsten tieferen Workshop planen — dafür seit ihr gefragt und eure aktuellen Themen rund um die Themen Selbständigkeit/Postitionierung/Marketing und Kundengewinnung\, damit ihr den bestmöglichen Input erhaltet. \nAktuelle Fragen kommen natürlich auch nicht zu kurz 😉 \nWir freuen uns auf euch ❤️
URL:https://pureandpositive.com/event/kick-off-workshop-selbstaendigkeit-aufbau-eines-online-business/
END:VEVENT
END:VCALENDAR